BEGIN:VCALENDAR
VERSION:2.0
PRODID:-//Kongresy, Gale, Konferencje, Szkolenia Twarde i Miękkie - MMC Polska - ECPv6.4.0.1//NONSGML v1.0//EN
CALSCALE:GREGORIAN
METHOD:PUBLISH
X-WR-CALNAME:Kongresy, Gale, Konferencje, Szkolenia Twarde i Miękkie - MMC Polska
X-ORIGINAL-URL:https://mmcpolska.pl
X-WR-CALDESC:Events for Kongresy, Gale, Konferencje, Szkolenia Twarde i Miękkie - MMC Polska
REFRESH-INTERVAL;VALUE=DURATION:PT1H
X-Robots-Tag:noindex
X-PUBLISHED-TTL:PT1H
BEGIN:VTIMEZONE
TZID:Europe/Warsaw
BEGIN:DAYLIGHT
TZOFFSETFROM:+0100
TZOFFSETTO:+0200
TZNAME:CEST
DTSTART:20240331T010000
END:DAYLIGHT
BEGIN:STANDARD
TZOFFSETFROM:+0200
TZOFFSETTO:+0100
TZNAME:CET
DTSTART:20241027T010000
END:STANDARD
END:VTIMEZONE
BEGIN:VEVENT
DTSTART;VALUE=DATE:20240925
DTEND;VALUE=DATE:20240927
DTSTAMP:20260421T082336
CREATED:20240725T072904Z
LAST-MODIFIED:20240725T072904Z
UID:5780-1727222400-1727395199@mmcpolska.pl
SUMMARY:Ochrona konsumenta w nowej rzeczywistości prawnej i cyfrowej
DESCRIPTION:
URL:https://mmcpolska.pl/event/ochrona-konsumenta-w-nowej-rzeczywistosci-prawnej-i-cyfrowej/
CATEGORIES:Wydarzenia
END:VEVENT
BEGIN:VEVENT
DTSTART;TZID=Europe/Warsaw:20240916T081500
DTEND;TZID=Europe/Warsaw:20240916T170000
DTSTAMP:20260421T082336
CREATED:20240712T075632Z
LAST-MODIFIED:20240712T082411Z
UID:5131-1726474500-1726506000@mmcpolska.pl
SUMMARY:Wpływ nadchodzących zmian prawnych na rozliczenia i sprawozdawczość cen transferowych
DESCRIPTION:
URL:https://mmcpolska.pl/event/wplyw-nadchodzacych-zmian-prawnych-na-rozliczenia-i-sprawozdawczosc-cen-transferowych/
CATEGORIES:Wydarzenia
END:VEVENT
BEGIN:VEVENT
DTSTART;VALUE=DATE:20240909
DTEND;VALUE=DATE:20240911
DTSTAMP:20260421T082336
CREATED:20240712T070544Z
LAST-MODIFIED:20240712T074457Z
UID:5125-1725840000-1726012799@mmcpolska.pl
SUMMARY:Ewolucja czy rewolucja – czyli jak zarządzać chmurą i outsourcingiem w świetle DORA i NIS2?
DESCRIPTION:
URL:https://mmcpolska.pl/event/ewolucja-czy-rewolucja-czyli-jak-zarzadzac-chmura-i-outsourcingiem-w-swietle-dora-i-nis2/
CATEGORIES:Wydarzenia
END:VEVENT
END:VCALENDAR