BEGIN:VCALENDAR
VERSION:2.0
PRODID:-//Kongresy, Gale, Konferencje, Szkolenia Twarde i Miękkie - MMC Polska - ECPv6.4.0.1//NONSGML v1.0//EN
CALSCALE:GREGORIAN
METHOD:PUBLISH
X-ORIGINAL-URL:https://mmcpolska.pl
X-WR-CALDESC:Events for Kongresy, Gale, Konferencje, Szkolenia Twarde i Miękkie - MMC Polska
REFRESH-INTERVAL;VALUE=DURATION:PT1H
X-Robots-Tag:noindex
X-PUBLISHED-TTL:PT1H
BEGIN:VTIMEZONE
TZID:Europe/Warsaw
BEGIN:DAYLIGHT
TZOFFSETFROM:+0100
TZOFFSETTO:+0200
TZNAME:CEST
DTSTART:20240331T010000
END:DAYLIGHT
BEGIN:STANDARD
TZOFFSETFROM:+0200
TZOFFSETTO:+0100
TZNAME:CET
DTSTART:20241027T010000
END:STANDARD
END:VTIMEZONE
BEGIN:VEVENT
DTSTART;VALUE=DATE:20241021
DTEND;VALUE=DATE:20241023
DTSTAMP:20260421T192618
CREATED:20240725T074429Z
LAST-MODIFIED:20240725T074429Z
UID:5792-1729468800-1729641599@mmcpolska.pl
SUMMARY:Inwestycje w zgodzie z naturą i prawem – wyzwania w zakresie pozyskiwania decyzji środowiskowych
DESCRIPTION:
URL:https://mmcpolska.pl/event/inwestycje-w-zgodzie-z-natura-i-prawem-wyzwania-w-zakresie-pozyskiwania-decyzji-srodowiskowych/
CATEGORIES:Wydarzenia
END:VEVENT
BEGIN:VEVENT
DTSTART;VALUE=DATE:20241021
DTEND;VALUE=DATE:20241023
DTSTAMP:20260421T192618
CREATED:20240725T074559Z
LAST-MODIFIED:20240725T074559Z
UID:5794-1729468800-1729641599@mmcpolska.pl
SUMMARY:Kongres Bezpieczeństwo Polski
DESCRIPTION:
URL:https://mmcpolska.pl/event/kongres-bezpieczenstwo-polski/
CATEGORIES:Wydarzenia
END:VEVENT
BEGIN:VEVENT
DTSTART;VALUE=DATE:20241029
DTEND;VALUE=DATE:20241030
DTSTAMP:20260421T192618
CREATED:20240725T074950Z
LAST-MODIFIED:20240725T074950Z
UID:5799-1730160000-1730246399@mmcpolska.pl
SUMMARY:RetailTec Congress
DESCRIPTION:
URL:https://mmcpolska.pl/event/retailtec-congress-2/
CATEGORIES:Wydarzenia
END:VEVENT
BEGIN:VEVENT
DTSTART;VALUE=DATE:20241107
DTEND;VALUE=DATE:20241109
DTSTAMP:20260421T192618
CREATED:20240725T074728Z
LAST-MODIFIED:20240725T074851Z
UID:5796-1730937600-1731110399@mmcpolska.pl
SUMMARY:40. EuroPOWER & OZE POWER
DESCRIPTION:
URL:https://mmcpolska.pl/event/retailtec-congress/
CATEGORIES:Wydarzenia
END:VEVENT
BEGIN:VEVENT
DTSTART;VALUE=DATE:20241118
DTEND;VALUE=DATE:20241120
DTSTAMP:20260421T192618
CREATED:20240725T075117Z
LAST-MODIFIED:20240725T075117Z
UID:5801-1731888000-1732060799@mmcpolska.pl
SUMMARY:19. Smart City Forum
DESCRIPTION:
URL:https://mmcpolska.pl/event/19-smart-city-forum/
CATEGORIES:Wydarzenia
END:VEVENT
END:VCALENDAR