BEGIN:VCALENDAR
VERSION:2.0
PRODID:-//Kongresy, Gale, Konferencje, Szkolenia Twarde i Miękkie - MMC Polska - ECPv6.4.0.1//NONSGML v1.0//EN
CALSCALE:GREGORIAN
METHOD:PUBLISH
X-WR-CALNAME:Kongresy, Gale, Konferencje, Szkolenia Twarde i Miękkie - MMC Polska
X-ORIGINAL-URL:https://mmcpolska.pl
X-WR-CALDESC:Events for Kongresy, Gale, Konferencje, Szkolenia Twarde i Miękkie - MMC Polska
REFRESH-INTERVAL;VALUE=DURATION:PT1H
X-Robots-Tag:noindex
X-PUBLISHED-TTL:PT1H
BEGIN:VTIMEZONE
TZID:Europe/Warsaw
BEGIN:DAYLIGHT
TZOFFSETFROM:+0100
TZOFFSETTO:+0200
TZNAME:CEST
DTSTART:20240331T010000
END:DAYLIGHT
BEGIN:STANDARD
TZOFFSETFROM:+0200
TZOFFSETTO:+0100
TZNAME:CET
DTSTART:20241027T010000
END:STANDARD
END:VTIMEZONE
BEGIN:VEVENT
DTSTART;VALUE=DATE:20241009
DTEND;VALUE=DATE:20241011
DTSTAMP:20260421T151226
CREATED:20240725T073749Z
LAST-MODIFIED:20240725T073749Z
UID:5786-1728432000-1728604799@mmcpolska.pl
SUMMARY:Raportowanie ESG – obowiązek czy szansa? Praktyczne podejście do raportu\, podwójnej istotności i należytej staranności
DESCRIPTION:
URL:https://mmcpolska.pl/event/raportowanie-esg-obowiazek-czy-szansa-praktyczne-podejscie-do-raportu-podwojnej-istotnosci-i-nalezytej-starannosci/
CATEGORIES:Wydarzenia
END:VEVENT
END:VCALENDAR